BEGIN:VCALENDAR
PRODID:-//AT Content Types//AT Event//EN
VERSION:1.0
BEGIN:VEVENT
DTSTART:20090710T130000Z
DTEND:20090712T013500Z
DCREATED:20090224T024223Z
UID:ATEvent-edfe81393500664cc03698edc4a25176
SEQUENCE:0
LAST-MODIFIED:20090702T153717Z
SUMMARY:Invitational (Friday + Saturday)
PRIORITY:3
TRANSP:0
END:VEVENT
END:VCALENDAR
